BEGIN:VCALENDAR
VERSION:2.0
PRODID:-//wp-events-plugin.com//5.99912//EN
TZID:Europe/Berlin
X-WR-TIMEZONE:Europe/Berlin
BEGIN:VEVENT
UID:0-620@baltmannsweiler.albverein.eu
DTSTART;TZID=Europe/Berlin:20261021T000000
DTEND;TZID=Europe/Berlin:20261021T000000
DTSTAMP:20260308T133325Z
URL:https://baltmannsweiler.albverein.eu/events/nachmittagswanderung-zum-r
 emstalkino/
SUMMARY:Nachmittagswanderung zum Remstalkino
DESCRIPTION:Herbstliche Nachmittagswanderung.\n\nWF: Günther Kiefer
END:VEVENT
BEGIN:VTIMEZONE
TZID:Europe/Berlin
X-LIC-LOCATION:Europe/Berlin
BEGIN:DAYLIGHT
DTSTART:20260329T030000
TZOFFSETFROM:+0100
TZOFFSETTO:+0200
TZNAME:CEST
END:DAYLIGHT
END:VTIMEZONE
END:VCALENDAR